BEGIN:VCALENDAR
VERSION:2.0
PRODID:-//eventon.com NONSGML v1.0//EN
CALSCALE:GREGORIAN
METHOD:PUBLISH
BEGIN:VEVENT
UID:69e9de4fbc462
DTSTAMP:20260423T085439Z
DTSTART:20260421
DTEND:20260422
LOCATION:Baetje Farms 8932 Jackson School Road\,  Bloomsdale\,  Missouri 63627
SUMMARY:Venue Tasting
DESCRIPTION:This tasting event is specifically designed for soon-to-be Arti
 san Brides and Grooms\,  offering a unique culinary experience. However\,  
 it&#8217;s also open to the public\,  inviting everyone to partake in the d
 elightful flavors. Powered by OccasionGenius\nhttps://visitstegen.com/event
 s/venue-tasting-2/
URL:https://visitstegen.com/events/venue-tasting-2/
END:VEVENT
END:VCALENDAR