BEGIN:VCALENDAR
VERSION:2.0
PRODID:-//eventon.com NONSGML v1.0//EN
CALSCALE:GREGORIAN
METHOD:PUBLISH
BEGIN:VEVENT
UID:69e7619f14c5a
DTSTAMP:20260421T113807Z
DTSTART:20260613
DTEND:20260614
LOCATION:Ste. Genevieve Catholic Church 49 Dubourg Place\,  Ste. Genevieve\,  Missouri 63670
SUMMARY:French Heritage Festival
DESCRIPTION:Ste. Genevieve&#8217;s annual French Heritage Festival is a vib
 rant celebration of 300 years of French culture and traditions. Attendees c
 an expect a day filled with living history demonstrations\,  captivating st
 orytelling\,  live traditional music\,  a variety of food and drinks\,  and
  a frontier French dance in the evening. Powered by OccasionGenius\nhttps:/
 /visitstegen.com/events/french-heritage-festival/
URL:https://visitstegen.com/events/french-heritage-festival/
END:VEVENT
END:VCALENDAR