BEGIN:VCALENDAR
VERSION:2.0
PRODID:-//eventon.com NONSGML v1.0//EN
CALSCALE:GREGORIAN
METHOD:PUBLISH
BEGIN:VEVENT
UID:69e5404fe629c
DTSTAMP:20260419T205127Z
DTSTART:20260415
DTEND:20260416
LOCATION:The Beacon 4639 U.S. 61\,  Bloomsdale\,  Missouri 63627
SUMMARY:Extreme Bar Bingo
DESCRIPTION:Bingo is making a thrilling comeback\,  promising an evening fi
 lled with suspense\,  laughter\,  and friendly competition. Attendees can e
 xpect an engaging atmosphere\,  complete with a fully stocked bar offering 
 a wide array of beverages to keep spirits high throughout the game. Powered
  by OccasionGenius\nhttps://visitstegen.com/events/extreme-bar-bingo/
URL:https://visitstegen.com/events/extreme-bar-bingo/
END:VEVENT
END:VCALENDAR