BEGIN:VCALENDAR
VERSION:2.0
PRODID:-//eventon.com NONSGML v1.0//EN
CALSCALE:GREGORIAN
METHOD:PUBLISH
BEGIN:VEVENT
UID:69e72b32837d7
DTSTAMP:20260421T074554Z
DTSTART:20260501
DTEND:20260502
LOCATION:Sainte Genevieve Art Center &amp; Art Museum 310 Merchant Street\,  Ste. Genevieve\,  Missouri 63670
SUMMARY:High School Art Show
DESCRIPTION:The High School Art Show is a fantastic opportunity to witness 
 the creative prowess of young\,  local talent. Attendees can also anticipat
 e the exciting announcement of scholarship and award recipients\,  adding a
  thrilling twist to the event. Powered by OccasionGenius\nhttps://visitsteg
 en.com/events/high-school-art-show/
URL:https://visitstegen.com/events/high-school-art-show/
END:VEVENT
END:VCALENDAR